BEGIN:VCALENDAR
VERSION:2.0
PRODID:-//Noritsu Pharmacy Automation - ECPv6.15.20//NONSGML v1.0//EN
CALSCALE:GREGORIAN
METHOD:PUBLISH
X-WR-CALNAME:Noritsu Pharmacy Automation
X-ORIGINAL-URL:https://noritsu-rx.com
X-WR-CALDESC:Events for Noritsu Pharmacy Automation
REFRESH-INTERVAL;VALUE=DURATION:PT1H
X-Robots-Tag:noindex
X-PUBLISHED-TTL:PT1H
BEGIN:VTIMEZONE
TZID:America/Chicago
BEGIN:DAYLIGHT
TZOFFSETFROM:-0600
TZOFFSETTO:-0500
TZNAME:CDT
DTSTART:20240310T080000
END:DAYLIGHT
BEGIN:STANDARD
TZOFFSETFROM:-0500
TZOFFSETTO:-0600
TZNAME:CST
DTSTART:20241103T070000
END:STANDARD
BEGIN:DAYLIGHT
TZOFFSETFROM:-0600
TZOFFSETTO:-0500
TZNAME:CDT
DTSTART:20250309T080000
END:DAYLIGHT
BEGIN:STANDARD
TZOFFSETFROM:-0500
TZOFFSETTO:-0600
TZNAME:CST
DTSTART:20251102T070000
END:STANDARD
BEGIN:DAYLIGHT
TZOFFSETFROM:-0600
TZOFFSETTO:-0500
TZNAME:CDT
DTSTART:20260308T080000
END:DAYLIGHT
BEGIN:STANDARD
TZOFFSETFROM:-0500
TZOFFSETTO:-0600
TZNAME:CST
DTSTART:20261101T070000
END:STANDARD
END:VTIMEZONE
BEGIN:VEVENT
DTSTART;VALUE=DATE:20250709
DTEND;VALUE=DATE:20250713
DTSTAMP:20260421T234646
CREATED:20250226T224649Z
LAST-MODIFIED:20250514T164408Z
UID:5049-1752019200-1752364799@noritsu-rx.com
SUMMARY:Cardinal RBC Conference
DESCRIPTION:Visit Noritsu in Denver at the RBC Show. Talk with one of our pharmacy automation specialists to determine if compliance packaging automation is right for your pharmacy.
URL:https://noritsu-rx.com/event/cardinal-rbc-conference/
LOCATION:Colorado Convention Center\, Denver\, CO
ATTACH;FMTTYPE=image/png:https://noritsu-rx.com/npa-wp/wp-content/uploads/2025/02/Noritsu-pharmacy-auotmation-at-Cardinal-health-retail-business-conference-RBC-july-9-12-2025.png
END:VEVENT
BEGIN:VEVENT
DTSTART;VALUE=DATE:20250716
DTEND;VALUE=DATE:20250720
DTSTAMP:20260421T234646
CREATED:20250227T152811Z
LAST-MODIFIED:20250422T130542Z
UID:5054-1752624000-1752969599@noritsu-rx.com
SUMMARY:Thoughtspot 2025
DESCRIPTION:Join the Noritsu team in Las Vegas to see the latest in compliance packaging automation!
URL:https://noritsu-rx.com/event/thoughtspot-2025/
LOCATION:MGM Grand\, Las Vegas\, 3799 S Las Vegas Blvd\, Las Vegas\, NV\, United States
ATTACH;FMTTYPE=image/png:https://noritsu-rx.com/npa-wp/wp-content/uploads/2025/02/Noritsu-pharmacy-auotmation-at-ThoughtSpot-MGM-Grand-Las-Vegas-July-16-19-2025.png
END:VEVENT
BEGIN:VEVENT
DTSTART;VALUE=DATE:20250725
DTEND;VALUE=DATE:20250727
DTSTAMP:20260421T234646
CREATED:20250422T155626Z
LAST-MODIFIED:20250422T160005Z
UID:5134-1753401600-1753574399@noritsu-rx.com
SUMMARY:SCPC Business Partners Summit
DESCRIPTION:Join us in Washington DC at the historic Willard InterContinental to learn how a pharmacy automation solution from Noritsu can benefit pharmacies that are focused on serving seniors\, offering a safer and easier-to-use product that will benefit both patients and caregivers.
URL:https://noritsu-rx.com/event/scpc-business-partners-summit/
LOCATION:Willard InterContinental Washington\, D.C.\, 1401 Pennsylvania Avenue Northwest\, Washington\, DC\, United States
ATTACH;FMTTYPE=image/png:https://noritsu-rx.com/npa-wp/wp-content/uploads/2025/04/Noritsu-pharmacy-auotmation-at-SCPC-meeting-July-25-26-2025.png
END:VEVENT
END:VCALENDAR