BEGIN:VCALENDAR
VERSION:2.0
PRODID:-//Noritsu Pharmacy Automation - ECPv6.15.20//NONSGML v1.0//EN
CALSCALE:GREGORIAN
METHOD:PUBLISH
X-WR-CALNAME:Noritsu Pharmacy Automation
X-ORIGINAL-URL:https://noritsu-rx.com
X-WR-CALDESC:Events for Noritsu Pharmacy Automation
REFRESH-INTERVAL;VALUE=DURATION:PT1H
X-Robots-Tag:noindex
X-PUBLISHED-TTL:PT1H
BEGIN:VTIMEZONE
TZID:America/Chicago
BEGIN:DAYLIGHT
TZOFFSETFROM:-0600
TZOFFSETTO:-0500
TZNAME:CDT
DTSTART:20230312T080000
END:DAYLIGHT
BEGIN:STANDARD
TZOFFSETFROM:-0500
TZOFFSETTO:-0600
TZNAME:CST
DTSTART:20231105T070000
END:STANDARD
BEGIN:DAYLIGHT
TZOFFSETFROM:-0600
TZOFFSETTO:-0500
TZNAME:CDT
DTSTART:20240310T080000
END:DAYLIGHT
BEGIN:STANDARD
TZOFFSETFROM:-0500
TZOFFSETTO:-0600
TZNAME:CST
DTSTART:20241103T070000
END:STANDARD
BEGIN:DAYLIGHT
TZOFFSETFROM:-0600
TZOFFSETTO:-0500
TZNAME:CDT
DTSTART:20250309T080000
END:DAYLIGHT
BEGIN:STANDARD
TZOFFSETFROM:-0500
TZOFFSETTO:-0600
TZNAME:CST
DTSTART:20251102T070000
END:STANDARD
END:VTIMEZONE
BEGIN:VEVENT
DTSTART;VALUE=DATE:20240724
DTEND;VALUE=DATE:20240728
DTSTAMP:20260422T170210
CREATED:20240507T133648Z
LAST-MODIFIED:20240507T133648Z
UID:4866-1721779200-1722124799@noritsu-rx.com
SUMMARY:Cardinal Health RBC
DESCRIPTION:Cardinal Health’s Retail Business Conference is more than just a pharmacy conference. It’s a celebration of independent pharmacies and their unwavering commitment to patient care and community wellness. It’s an annual gathering of more than 4\,000 independent pharmacy owners looking for new ways to support their patients and grow their business.
URL:https://noritsu-rx.com/event/cardinal-health-rbc/
LOCATION:McCormick Place Convention Center\, Chicago\, 60616\, United States
ATTACH;FMTTYPE=image/png:https://noritsu-rx.com/npa-wp/wp-content/uploads/2024/05/Noritsu-pharmacy-auotmation-at-Cardinal-health-retail-business-conference-RBC-july-24-27-2024.png
END:VEVENT
BEGIN:VEVENT
DTSTART;VALUE=DATE:20240516
DTEND;VALUE=DATE:20240520
DTSTAMP:20260422T170210
CREATED:20240504T235325Z
LAST-MODIFIED:20240509T133104Z
UID:4859-1715817600-1716163199@noritsu-rx.com
SUMMARY:Amplify LTC Pharmacy Conference
DESCRIPTION:Presenting the inaugural AmplifyLTC Conference\, open to the entire long-term care pharmacy industry!
URL:https://noritsu-rx.com/event/amplify-ltc-pharmacy-conference/
LOCATION:Gaylord Opryland\, Opryland Dr.\, Nashville\, TN\, 37214\, United States
ATTACH;FMTTYPE=image/png:https://noritsu-rx.com/npa-wp/wp-content/uploads/2024/05/Noritsu-pharmacy-auotmation-at-redsail-amplify-ltc-pharmacy-conference-May-16-19-2024.png
END:VEVENT
END:VCALENDAR