BEGIN:VCALENDAR
VERSION:2.0
PRODID:-//Noritsu Pharmacy Automation - ECPv6.15.20//NONSGML v1.0//EN
CALSCALE:GREGORIAN
METHOD:PUBLISH
X-ORIGINAL-URL:https://noritsu-rx.com
X-WR-CALDESC:Events for Noritsu Pharmacy Automation
REFRESH-INTERVAL;VALUE=DURATION:PT1H
X-Robots-Tag:noindex
X-PUBLISHED-TTL:PT1H
BEGIN:VTIMEZONE
TZID:America/Chicago
BEGIN:DAYLIGHT
TZOFFSETFROM:-0600
TZOFFSETTO:-0500
TZNAME:CDT
DTSTART:20240310T080000
END:DAYLIGHT
BEGIN:STANDARD
TZOFFSETFROM:-0500
TZOFFSETTO:-0600
TZNAME:CST
DTSTART:20241103T070000
END:STANDARD
BEGIN:DAYLIGHT
TZOFFSETFROM:-0600
TZOFFSETTO:-0500
TZNAME:CDT
DTSTART:20250309T080000
END:DAYLIGHT
BEGIN:STANDARD
TZOFFSETFROM:-0500
TZOFFSETTO:-0600
TZNAME:CST
DTSTART:20251102T070000
END:STANDARD
BEGIN:DAYLIGHT
TZOFFSETFROM:-0600
TZOFFSETTO:-0500
TZNAME:CDT
DTSTART:20260308T080000
END:DAYLIGHT
BEGIN:STANDARD
TZOFFSETFROM:-0500
TZOFFSETTO:-0600
TZNAME:CST
DTSTART:20261101T070000
END:STANDARD
BEGIN:DAYLIGHT
TZOFFSETFROM:-0600
TZOFFSETTO:-0500
TZNAME:CDT
DTSTART:20270314T080000
END:DAYLIGHT
BEGIN:STANDARD
TZOFFSETFROM:-0500
TZOFFSETTO:-0600
TZNAME:CST
DTSTART:20271107T070000
END:STANDARD
END:VTIMEZONE
BEGIN:VEVENT
DTSTART;VALUE=DATE:20250502
DTEND;VALUE=DATE:20250504
DTSTAMP:20260422T165915
CREATED:20250225T193707Z
LAST-MODIFIED:20250422T171828Z
UID:5036-1746144000-1746316799@noritsu-rx.com
SUMMARY:NCPA's Business of Long Term Care Workshop
DESCRIPTION:Join Noritsu team members during NCPA’s Pharmacy Ownership Workshop and Business of Long-Term Care Workshop.  Both are being held in Alexandria\, Va.\, May 2-3. The workshops immediately follow NCPA’s Congressional Pharmacy Fly-In\, April 30-May 1\, also in Alexandria\, so they’re a great opportunity to pair some new business know-how with on-the-ground advocacy.
URL:https://noritsu-rx.com/event/ncpa-business-of-long-term-care-workshop/
LOCATION:Hilton Alexandria Old Town\, 1767 King St. Alexandria\, VA 22314\, Alexandria\, VA\, 22314
ATTACH;FMTTYPE=image/png:https://noritsu-rx.com/npa-wp/wp-content/uploads/2025/02/Noritsu-pharmacy-auotmation-at-ASCP-annual-meeting-November-7-10-2024.png
END:VEVENT
BEGIN:VEVENT
DTSTART;VALUE=DATE:20250605
DTEND;VALUE=DATE:20250609
DTSTAMP:20260422T165915
CREATED:20250225T203225Z
LAST-MODIFIED:20250422T142819Z
UID:5042-1749081600-1749427199@noritsu-rx.com
SUMMARY:Redsail Connect 2025
DESCRIPTION:Noritsu’s heading to Texas to join Redsail at their Connect 2025 Conference.  Visit the Noritsu booth to see automation solutions for community\, combo\, chain\, and LTC pharmacies!  Automate the routine so your pharmacists can get back to what matters\, providing care. \n 
URL:https://noritsu-rx.com/event/redsail-connect-2025/
LOCATION:Gaylord Texas Resort\, Grapevine TX\, 1501 Gaylord Trail\, Grapevine\, TX\, United States
ATTACH;FMTTYPE=image/png:https://noritsu-rx.com/npa-wp/wp-content/uploads/2025/02/Noritsu-pharmacy-auotmation-at-redsail-connect-June-5th-thru-June-8th-2025.png
END:VEVENT
BEGIN:VEVENT
DTSTART;VALUE=DATE:20250709
DTEND;VALUE=DATE:20250713
DTSTAMP:20260422T165915
CREATED:20250226T224649Z
LAST-MODIFIED:20250514T164408Z
UID:5049-1752019200-1752364799@noritsu-rx.com
SUMMARY:Cardinal RBC Conference
DESCRIPTION:Visit Noritsu in Denver at the RBC Show. Talk with one of our pharmacy automation specialists to determine if compliance packaging automation is right for your pharmacy.
URL:https://noritsu-rx.com/event/cardinal-rbc-conference/
LOCATION:Colorado Convention Center\, Denver\, CO
ATTACH;FMTTYPE=image/png:https://noritsu-rx.com/npa-wp/wp-content/uploads/2025/02/Noritsu-pharmacy-auotmation-at-Cardinal-health-retail-business-conference-RBC-july-9-12-2025.png
END:VEVENT
BEGIN:VEVENT
DTSTART;VALUE=DATE:20250716
DTEND;VALUE=DATE:20250720
DTSTAMP:20260422T165915
CREATED:20250227T152811Z
LAST-MODIFIED:20250422T130542Z
UID:5054-1752624000-1752969599@noritsu-rx.com
SUMMARY:Thoughtspot 2025
DESCRIPTION:Join the Noritsu team in Las Vegas to see the latest in compliance packaging automation!
URL:https://noritsu-rx.com/event/thoughtspot-2025/
LOCATION:MGM Grand\, Las Vegas\, 3799 S Las Vegas Blvd\, Las Vegas\, NV\, United States
ATTACH;FMTTYPE=image/png:https://noritsu-rx.com/npa-wp/wp-content/uploads/2025/02/Noritsu-pharmacy-auotmation-at-ThoughtSpot-MGM-Grand-Las-Vegas-July-16-19-2025.png
END:VEVENT
BEGIN:VEVENT
DTSTART;VALUE=DATE:20250725
DTEND;VALUE=DATE:20250727
DTSTAMP:20260422T165915
CREATED:20250422T155626Z
LAST-MODIFIED:20250422T160005Z
UID:5134-1753401600-1753574399@noritsu-rx.com
SUMMARY:SCPC Business Partners Summit
DESCRIPTION:Join us in Washington DC at the historic Willard InterContinental to learn how a pharmacy automation solution from Noritsu can benefit pharmacies that are focused on serving seniors\, offering a safer and easier-to-use product that will benefit both patients and caregivers.
URL:https://noritsu-rx.com/event/scpc-business-partners-summit/
LOCATION:Willard InterContinental Washington\, D.C.\, 1401 Pennsylvania Avenue Northwest\, Washington\, DC\, United States
ATTACH;FMTTYPE=image/png:https://noritsu-rx.com/npa-wp/wp-content/uploads/2025/04/Noritsu-pharmacy-auotmation-at-SCPC-meeting-July-25-26-2025.png
END:VEVENT
BEGIN:VEVENT
DTSTART;VALUE=DATE:20250913
DTEND;VALUE=DATE:20250915
DTSTAMP:20260422T165915
CREATED:20250422T161130Z
LAST-MODIFIED:20250422T161130Z
UID:5137-1757721600-1757894399@noritsu-rx.com
SUMMARY:35th Annual IPA Trade Show & Banquet
DESCRIPTION:Join us in Irvine\, California\, for the 35th annual Indian Pharmacists Association Trade Show & Banquet
URL:https://noritsu-rx.com/event/35th-annual-ipa-trade-show-banquet/
LOCATION:Hyatt Regency Irvine\, 17900 Jamboree Rd\, Irvine\, CA\, United States
ATTACH;FMTTYPE=image/png:https://noritsu-rx.com/npa-wp/wp-content/uploads/2025/04/Noritsu-pharmacy-auotmation-at-IPA-2025.png
END:VEVENT
BEGIN:VEVENT
DTSTART;VALUE=DATE:20250915
DTEND;VALUE=DATE:20250918
DTSTAMP:20260422T165915
CREATED:20250422T162650Z
LAST-MODIFIED:20250422T173107Z
UID:5140-1757894400-1758153599@noritsu-rx.com
SUMMARY:FrameworkLTC User Conference
DESCRIPTION:Visit us during the FrameworkLTC User Conference to learn how automation solutions from Noritsu work seamlessly with your PMS to maximize your workflow
URL:https://noritsu-rx.com/event/frameworkltc-user-conference-2/
LOCATION:Marriot Marquis Chicago\, 2121 South Prairie Avenue\,\, Chicago\, IL\, 60616\, United States
ATTACH;FMTTYPE=image/png:https://noritsu-rx.com/npa-wp/wp-content/uploads/2025/04/Noritsu-pharmacy-auotmation-at-Framework-ltc-user-conference-2025.png
END:VEVENT
BEGIN:VEVENT
DTSTART;VALUE=DATE:20251018
DTEND;VALUE=DATE:20251022
DTSTAMP:20260422T165915
CREATED:20250422T163425Z
LAST-MODIFIED:20250422T163425Z
UID:5143-1760745600-1761091199@noritsu-rx.com
SUMMARY:NCPA Annual Convention and Expo
DESCRIPTION:NCPA is a great place for independent pharmacists nationwide to come together for networking and learning opportunities focused on their needs. Noritsu will be there\, showing off a variety of pouch and blister compliance packaging solutions that offer a perfect fit for your pharmacy\, no matter the size.
URL:https://noritsu-rx.com/event/ncpa-annual-convention-and-expo/
LOCATION:IL
ATTACH;FMTTYPE=image/png:https://noritsu-rx.com/npa-wp/wp-content/uploads/2025/04/Noritsu-pharmacy-auotmation-at-NCPA-October-18-21-2025.png
END:VEVENT
BEGIN:VEVENT
DTSTART;VALUE=DATE:20251023
DTEND;VALUE=DATE:20251027
DTSTAMP:20260422T165915
CREATED:20250422T164825Z
LAST-MODIFIED:20250422T165422Z
UID:5146-1761177600-1761523199@noritsu-rx.com
SUMMARY:2025 ASCP Annual Meeting & Exhibition
DESCRIPTION:ASCP is the premier association for pharmacies managing the needs of elderly and medically complex patients. Compliance packaging solutions from Noritsu are a perfect fit\, optimizing workflow and efficiency in the pharmacy while also providing patients and caregivers a safer and easier-to-use product. Stop by our booth and we’ll gladly show you a demo!
URL:https://noritsu-rx.com/event/2025-ascp-annual-meeting-exhibition/
LOCATION:Town and Country Resort\, 500 Hotel Circle N\, San Diego\, CA\, United States
ATTACH;FMTTYPE=image/png:https://noritsu-rx.com/npa-wp/wp-content/uploads/2025/04/Noritsu-pharmacy-auotmation-at-ASCP-San-Diego-October-2025.png
END:VEVENT
BEGIN:VEVENT
DTSTART;VALUE=DATE:20251104
DTEND;VALUE=DATE:20251107
DTSTAMP:20260422T165915
CREATED:20250422T170600Z
LAST-MODIFIED:20250422T170600Z
UID:5150-1762214400-1762473599@noritsu-rx.com
SUMMARY:SPS Health 2025 LTC Pharmacy Summit
DESCRIPTION:Meet up with us in Las Vegas to see the latest and greatest in LTC Pharmacy compliance packaging solutions. We offer a wide array of reliable pouch\, blister\, and verification solutions that will save you time and money by optimizing your workflow and labor costs.
URL:https://noritsu-rx.com/event/sps-health-2025-ltc-pharmacy-summit/
LOCATION:Encore Las Vegas\, 3121 S Las Vegas Blvd\, Las Vegas\, NV\, United States
ATTACH;FMTTYPE=image/png:https://noritsu-rx.com/npa-wp/wp-content/uploads/2025/04/Noritsu-pharmacy-auotmation-at-SPS-health-LTC-Pharmacy-Summit-November-4-6-2025.png
END:VEVENT
BEGIN:VEVENT
DTSTART;VALUE=DATE:20251107
DTEND;VALUE=DATE:20251109
DTSTAMP:20260422T165915
CREATED:20250422T171339Z
LAST-MODIFIED:20250422T172201Z
UID:5153-1762473600-1762646399@noritsu-rx.com
SUMMARY:25th Annual GeriMed Conference
DESCRIPTION:Gerimed is dedicated to independent pharmacies servicing both long-term and home care patients\, and compliance packaging solutions from Noritsu are perfectly aligned to help. Stop by our booth to learn how a compliance packaging system from Noritsu can offer benefits not just to the pharmacy\, but to patients and caregivers as well
URL:https://noritsu-rx.com/event/25th-annual-gerimed-conference/
LOCATION:JW Marriott Marco Island Beach Resort\, 400 S Collier Blvd\, Marco Island\, FL\, 34145\, United States
ATTACH;FMTTYPE=image/png:https://noritsu-rx.com/npa-wp/wp-content/uploads/2025/04/Noritsu-pharmacy-auotmation-at-Gerimed-November-7-8-2025.png
END:VEVENT
BEGIN:VEVENT
DTSTART;TZID=America/Chicago:20260210T080000
DTEND;TZID=America/Chicago:20260212T170000
DTSTAMP:20260422T165915
CREATED:20260205T211642Z
LAST-MODIFIED:20260205T211642Z
UID:7943-1770710400-1770915600@noritsu-rx.com
SUMMARY:Guardian Pharmacy SAMM Conference
DESCRIPTION:Guardian Pharmacy SAMM Conference\n\n\n\n\nJoin us for the 2026 SAMM\, Guardian Pharmacy Services’ Sales & Account Management Meeting\, in Atlanta\, GA.\nNoritsu will be on-site\, showing our Blade pill splitter and answering any questions you might have about our array of compliance packaging solutions.
URL:https://noritsu-rx.com/event/guardian-pharmacy-samm-conference/
LOCATION:The Grand Hytatt\, Buckhead\, Atlanta\, GA\, United States
ATTACH;FMTTYPE=image/png:https://noritsu-rx.com/npa-wp/wp-content/uploads/2026/02/Guardian-pharmacy-SAMM-conference-Feb-10-to-12-2026.png
END:VEVENT
BEGIN:VEVENT
DTSTART;TZID=America/Chicago:20260316T080000
DTEND;TZID=America/Chicago:20260317T170000
DTSTAMP:20260422T165915
CREATED:20260205T212818Z
LAST-MODIFIED:20260205T212818Z
UID:7948-1773648000-1773766800@noritsu-rx.com
SUMMARY:MHA Connect 2026
DESCRIPTION:MHA Business Summit is now MHA Connect\, a new event designed to help members and business partners focus on what matters most—improving resident outcomes while building stronger\, more successful businesses through collaboration\, relationships\, and shared knowledge.\nNortsu will be there\, with our friendly and knowledgeable staff\, ready to answer any questions and to help you find the right compliance packaging system for your business.
URL:https://noritsu-rx.com/event/mha-connect-2026/
LOCATION:Caribe Royale\, Orlando\, Orlando\, FL\, United States
ATTACH;FMTTYPE=image/png:https://noritsu-rx.com/npa-wp/wp-content/uploads/2026/02/NPA-MHA-Connect-conference-March-16-to-18-2026.png
END:VEVENT
BEGIN:VEVENT
DTSTART;VALUE=DATE:20261012
DTEND;VALUE=DATE:20261015
DTSTAMP:20260422T165915
CREATED:20260415T184011Z
LAST-MODIFIED:20260415T184011Z
UID:8218-1791763200-1792022399@noritsu-rx.com
SUMMARY:FrameworkLTC Innovation Conference
DESCRIPTION:Visit the Noritsu booth to see how LTC pharmacies across the U.S. are cutting cycle times by up to 66%\, reducing payroll hours by 50%\, and increasing verification pass rates\,  all while improving medication safety and patient outcomes. All of our solutions use our unifed NexusRx workflow platform\, which works seamlessly with FrameworkLTC and adds features like in-line eMAR integration and actionable workflow analytics. With 40 years of proven results\, Noritsu provides more than equipment — we’re your long-term partner in innovation.\nStop by\, see a live demo\, and let’s talk about what’s possible for your operation.
URL:https://noritsu-rx.com/event/frameworkltc-innovation-conference/
LOCATION:Marriot Marquis Chicago\, 2121 South Prairie Avenue\,\, Chicago\, IL\, 60616\, United States
CATEGORIES:Tradeshow
ATTACH;FMTTYPE=image/png:https://noritsu-rx.com/npa-wp/wp-content/uploads/2026/04/NPA-FrameworkLTC-Innovation-Conference-Oct-12-to-14-2026.png
END:VEVENT
END:VCALENDAR