BEGIN:VCALENDAR
VERSION:2.0
PRODID:-//Noritsu Pharmacy Automation - ECPv6.15.20//NONSGML v1.0//EN
CALSCALE:GREGORIAN
METHOD:PUBLISH
X-ORIGINAL-URL:https://noritsu-rx.com
X-WR-CALDESC:Events for Noritsu Pharmacy Automation
REFRESH-INTERVAL;VALUE=DURATION:PT1H
X-Robots-Tag:noindex
X-PUBLISHED-TTL:PT1H
BEGIN:VTIMEZONE
TZID:America/Chicago
BEGIN:DAYLIGHT
TZOFFSETFROM:-0600
TZOFFSETTO:-0500
TZNAME:CDT
DTSTART:20240310T080000
END:DAYLIGHT
BEGIN:STANDARD
TZOFFSETFROM:-0500
TZOFFSETTO:-0600
TZNAME:CST
DTSTART:20241103T070000
END:STANDARD
BEGIN:DAYLIGHT
TZOFFSETFROM:-0600
TZOFFSETTO:-0500
TZNAME:CDT
DTSTART:20250309T080000
END:DAYLIGHT
BEGIN:STANDARD
TZOFFSETFROM:-0500
TZOFFSETTO:-0600
TZNAME:CST
DTSTART:20251102T070000
END:STANDARD
BEGIN:DAYLIGHT
TZOFFSETFROM:-0600
TZOFFSETTO:-0500
TZNAME:CDT
DTSTART:20260308T080000
END:DAYLIGHT
BEGIN:STANDARD
TZOFFSETFROM:-0500
TZOFFSETTO:-0600
TZNAME:CST
DTSTART:20261101T070000
END:STANDARD
END:VTIMEZONE
BEGIN:VEVENT
DTSTART;VALUE=DATE:20251018
DTEND;VALUE=DATE:20251022
DTSTAMP:20260421T203704
CREATED:20250422T163425Z
LAST-MODIFIED:20250422T163425Z
UID:5143-1760745600-1761091199@noritsu-rx.com
SUMMARY:NCPA Annual Convention and Expo
DESCRIPTION:NCPA is a great place for independent pharmacists nationwide to come together for networking and learning opportunities focused on their needs. Noritsu will be there\, showing off a variety of pouch and blister compliance packaging solutions that offer a perfect fit for your pharmacy\, no matter the size.
URL:https://noritsu-rx.com/event/ncpa-annual-convention-and-expo/
LOCATION:IL
ATTACH;FMTTYPE=image/png:https://noritsu-rx.com/npa-wp/wp-content/uploads/2025/04/Noritsu-pharmacy-auotmation-at-NCPA-October-18-21-2025.png
END:VEVENT
END:VCALENDAR