BEGIN:VCALENDAR
VERSION:2.0
PRODID:-//Noritsu Pharmacy Automation - ECPv6.15.20//NONSGML v1.0//EN
CALSCALE:GREGORIAN
METHOD:PUBLISH
X-ORIGINAL-URL:https://noritsu-rx.com
X-WR-CALDESC:Events for Noritsu Pharmacy Automation
REFRESH-INTERVAL;VALUE=DURATION:PT1H
X-Robots-Tag:noindex
X-PUBLISHED-TTL:PT1H
BEGIN:VTIMEZONE
TZID:America/Chicago
BEGIN:DAYLIGHT
TZOFFSETFROM:-0600
TZOFFSETTO:-0500
TZNAME:CDT
DTSTART:20230312T080000
END:DAYLIGHT
BEGIN:STANDARD
TZOFFSETFROM:-0500
TZOFFSETTO:-0600
TZNAME:CST
DTSTART:20231105T070000
END:STANDARD
BEGIN:DAYLIGHT
TZOFFSETFROM:-0600
TZOFFSETTO:-0500
TZNAME:CDT
DTSTART:20240310T080000
END:DAYLIGHT
BEGIN:STANDARD
TZOFFSETFROM:-0500
TZOFFSETTO:-0600
TZNAME:CST
DTSTART:20241103T070000
END:STANDARD
BEGIN:DAYLIGHT
TZOFFSETFROM:-0600
TZOFFSETTO:-0500
TZNAME:CDT
DTSTART:20250309T080000
END:DAYLIGHT
BEGIN:STANDARD
TZOFFSETFROM:-0500
TZOFFSETTO:-0600
TZNAME:CST
DTSTART:20251102T070000
END:STANDARD
END:VTIMEZONE
BEGIN:VEVENT
DTSTART;TZID=America/Chicago:20240921T153000
DTEND;TZID=America/Chicago:20240921T183000
DTSTAMP:20260422T191419
CREATED:20240920T130634Z
LAST-MODIFIED:20240920T131652Z
UID:5001-1726932600-1726943400@noritsu-rx.com
SUMMARY:34th IPA Trade Show & Banquet
DESCRIPTION:This year\, Noritsu released a new line of multidose compliance packagers that fit the space and budgets of independent pharmacies.  See the Littlebots\, a new breed of packagers that are affordable\, scalable\, easy to implement\, and to use.  They allow independent pharmacies to meet the growing demand for compliance packaging. \nVisit Noritsu at booth 24 during the upcoming IPA Trade Show.
URL:https://noritsu-rx.com/event/34th-ipa-trade-show-banquet/
LOCATION:Hyatt Regency Irvine\, 17900 Jamboree Rd\, Irvine\, CA\, 92614\, United States
ATTACH;FMTTYPE=image/png:https://noritsu-rx.com/npa-wp/wp-content/uploads/2024/09/Noritsu-pharmacy-auotmation-at-the-Indian-Pharmacists-Association-conference-Sep-21-2024.png
END:VEVENT
END:VCALENDAR